BEGIN:VCALENDAR
VERSION:2.0
PRODID:-//Il portale dell&#039;Ultracycling in Italia - ECPv4.6.10.1//NONSGML v1.0//EN
CALSCALE:GREGORIAN
METHOD:PUBLISH
X-WR-CALNAME:Il portale dell&#039;Ultracycling in Italia
X-ORIGINAL-URL:https://ultracyclingitalia.com
X-WR-CALDESC:Events for Il portale dell&#039;Ultracycling in Italia
BEGIN:VEVENT
DTSTART;TZID=UTC+0:20100606T080000
DTEND;TZID=UTC+0:20100607T170000
DTSTAMP:20260422T235036
CREATED:20191026T102525Z
LAST-MODIFIED:20191026T102525Z
UID:273580-1275811200-1275930000@ultracyclingitalia.com
SUMMARY:xtreme24
DESCRIPTION:il 6-7 Giugno 2020 ritorna la meravigliosa sfida sulle 24 ore all’interno degli Xtreme days di Sacile (PN). \nNon solo 24 ore per l’edizione 2020\, ma anche 6 ore e 12 ore per un evento che ha lasciato il segno indelebile nel 2018! \nSeguiranno le news\, stay tuned! \n
URL:https://ultracyclingitalia.com/event/xtreme24/
ATTACH;FMTTYPE=image/jpeg:https://ultracyclingitalia.com/wp-content/uploads/2017/11/x-treme.jpg
END:VEVENT
END:VCALENDAR