BEGIN:VCALENDAR
VERSION:2.0
PRODID:-//Il portale dell&#039;Ultracycling in Italia - ECPv4.6.10.1//NONSGML v1.0//EN
CALSCALE:GREGORIAN
METHOD:PUBLISH
X-WR-CALNAME:Il portale dell&#039;Ultracycling in Italia
X-ORIGINAL-URL:https://ultracyclingitalia.com
X-WR-CALDESC:Events for Il portale dell&#039;Ultracycling in Italia
BEGIN:VEVENT
DTSTART;TZID=UTC+0:20171105T080000
DTEND;TZID=UTC+0:20171105T170000
DTSTAMP:20260422T215508
CREATED:20180601T112232Z
LAST-MODIFIED:20171105T152332Z
UID:1691-1509868800-1509901200@ultracyclingitalia.com
SUMMARY:XTREME 24H
DESCRIPTION:Un percorso Straordinario\, su un percorso che lega i Castelli della pedemontana Pordenonese\, con partenza ed arrivo a Sacile nel contesto degli Extreme Days\, Circa 35 Km dove ci si spingerà al limite ed oltre! Tifo e pubblico caloroso vi attendono. \nState connessi per i dettagli. \n
URL:https://ultracyclingitalia.com/event/xtreme-24h/
END:VEVENT
END:VCALENDAR