BEGIN:VCALENDAR
VERSION:2.0
PRODID:-//Il portale dell&#039;Ultracycling in Italia - ECPv4.6.10.1//NONSGML v1.0//EN
CALSCALE:GREGORIAN
METHOD:PUBLISH
X-WR-CALNAME:Il portale dell&#039;Ultracycling in Italia
X-ORIGINAL-URL:https://ultracyclingitalia.com
X-WR-CALDESC:Events for Il portale dell&#039;Ultracycling in Italia
BEGIN:VEVENT
DTSTART;TZID=UTC+0:20200703T080000
DTEND;TZID=UTC+0:20200705T170000
DTSTAMP:20260422T202342
CREATED:20191013T142835Z
LAST-MODIFIED:20191104T135527Z
UID:273261-1593763200-1593968400@ultracyclingitalia.com
SUMMARY:Ultracycling Dolomitica 2020\, 700 Km per la 7°edizione
DESCRIPTION: \nI passi diventano 19\, il dislivello di 16.000 mt resta pressochè invariato\, la passione cresce esponenzialmente. \nUn percorso che sembra essere il percorso più apprezzato di sempre: \nPASSO LA CROSETTA – PASSO SAN BOLDO – PASSO CROCE D’AUNE – CIMA CAMPO – PASSO MANGHEN – PASSO VALPAROLA – PASSO DURAN – FORCELLA STAULANZA – PASSO FEDAIA – PASSO SELLA – PASSO GARDENA – PASSO VALPAROLA – PASSO GIAU – PASSO TRE CROCI – PASSO MONTE CROCE DI COMELICO – PASSO SANT’ANTONIO – PASSO SANT’OSVALDO (DIGA DEL VAJONT) – PIANCAVALLO – MONTE GAIARDIN.\n \nLa Dolomitica non è mai stata così “Dolomitica”! \nLa corsa vi farà scoprire le meraviglie di ben 8 tra parchi nazionali e riserve naturali\, un viaggio attraverso la natura e luoghi unici. \nDopo Ultracycling Dolomitica nulla sarà più come prima! \n
URL:https://ultracyclingitalia.com/event/ultracycling-dolomitica-2020-7oo-km-la-7edizione/
LOCATION:Via Pertini\, 12\, Sarmede\, Italia
ORGANIZER;CN="Ultracycling%20Italia":MAILTO:ultracyclingdolomitica@gmail.com
END:VEVENT
END:VCALENDAR