BEGIN:VCALENDAR
VERSION:2.0
PRODID:-//Il portale dell&#039;Ultracycling in Italia - ECPv4.6.10.1//NONSGML v1.0//EN
CALSCALE:GREGORIAN
METHOD:PUBLISH
X-WR-CALNAME:Il portale dell&#039;Ultracycling in Italia
X-ORIGINAL-URL:https://ultracyclingitalia.com
X-WR-CALDESC:Events for Il portale dell&#039;Ultracycling in Italia
BEGIN:VEVENT
DTSTART;TZID=UTC+0:20190928T080000
DTEND;TZID=UTC+0:20190929T130000
DTSTAMP:20260422T092441
CREATED:20181227T165009Z
LAST-MODIFIED:20181231T102021Z
UID:11262-1569657600-1569762000@ultracyclingitalia.com
SUMMARY:Time Trial
DESCRIPTION:La prima edizione della Time Trial\, novità del 2019! \n \nLa corsa a cronometro che stavate aspettando! Tre gare in una 6h-12h-24h categoria solo\, solo woman\, solo over 50\, team 2\, team 4\, team 6. \nLa corsa a cronometro che stavate aspettando! Tre gare in una 6h-12h-24h categoria solo\, solo woman\, solo over 50\, team 2\, team 4\, team 6. \nLa gara\, inserita nel favoloso contesto della festa d’Autunno di Bagnolo di San Pietro di Feletto\, percorso straordinario\, 24Km circa 4oo Mt di dislivello\, per gli amanti delle corse su circuito\, e della festa! \n \nFantastica area box con docce aperte per tutta la durata dell’ evento\, e pasta party finale. Un appuntamento da non perderdere! \n
URL:https://ultracyclingitalia.com/event/time-trial/
LOCATION:31020
ORGANIZER;CN="Ultracycling%20Italia":MAILTO:ultracyclingdolomitica@gmail.com
END:VEVENT
END:VCALENDAR