BEGIN:VCALENDAR
VERSION:2.0
PRODID:-//Il portale dell&#039;Ultracycling in Italia - ECPv4.6.10.1//NONSGML v1.0//EN
CALSCALE:GREGORIAN
METHOD:PUBLISH
X-WR-CALNAME:Il portale dell&#039;Ultracycling in Italia
X-ORIGINAL-URL:https://ultracyclingitalia.com
X-WR-CALDESC:Events for Il portale dell&#039;Ultracycling in Italia
BEGIN:VEVENT
DTSTART;TZID=UTC+0:20190601T090000
DTEND;TZID=UTC+0:20190602T000000
DTSTAMP:20260422T105809
CREATED:20190128T173141Z
LAST-MODIFIED:20190129T183019Z
UID:22403-1559379600-1559433600@ultracyclingitalia.com
SUMMARY:Romagna Ultra Race
DESCRIPTION:Arriva la Romagna Ultra Race: una grande sfida in bicicletta che scatta da Forlì!\n \n  \nArriva a Forlì la Romagna Ultra Race\, la prima gara di Ultracycling in Emilia Romagna con partenza e arrivo dal velodromo G. Servadei. \nMonte Busca\nRomagna Ultra Race\, in programma nel weekend del 1 e 2 giugno 2019\, non è solo una sfida sportiva\, è un viaggio interiore\, una prova contro sé stessi alla ricerca di un nuovo panorama\, di un nuovo limite\, di una nuova fatica\, insieme alla propria inseparabile bicicletta. \n  \n  \n  \n  \n  \n  \n  \n  \nLa gara è nata dall’idea di Ivano Incensi\, disegnatore del percorso\, direttore ed organizzatore della corsa insieme a Paolo Pistelli. Dopo un pomeriggio di preparazione (venerdì 31 maggio) la prima edizione prende il via il 1° giugno e presenta due percorsi: RUR 310 e RUR 550.\nRomagna Ultra Race 310 è un percorso di 310 km con circa 7.000 metri di dislivello e 16 salite da affrontare fino all’arrivo di Passo Peschiera.\nRomagna Ultra Race 550 è il percorso lungo\, di circa 550 km\, con 14.000 metri di dislivello e 32 salite complessive da affrontare\, fino all’ultimo strappo che porta al traguardo della Rocca delle Camminate di Predappio. \n  \nPROGRAMMA DELLA CORSA\nVenerdì 31 maggio\n– dalle 15.00 alle 18.00 controllo bici e auto di supporto\n– from 15.00 to 18.00 check bike and support car\n– dalle 18.00 alle 19.30 briefing\n– from 18.30 to 19.30 briefing \nSabato 1 giugno\n– 9.00 partenza del primo ciclista\, partenze ogni 3 minuti\n– 9.00 start first cyclist\, departures every 3 minutes \nDomenica 2 giugno\n– dalle 11.00 attesa dei primi concorrenti\n– from 11.00 waiting for the first cyclists\n– 15.00 premiazioni\n– 15.00 awards \n\nMonte Fumarolo\, sorgente  Tevere\n\n\n  \nPer ulteriori informazioni: www.romagnaultrarace.it\n \n \n \n
URL:https://ultracyclingitalia.com/event/romagna-ultra-race/
LOCATION:Viale Roma 130\, Forlì\, Italia
ORGANIZER;CN="asd%20romagnaultrarace":MAILTO:info@romagnaultrarace.it
END:VEVENT
END:VCALENDAR