BEGIN:VCALENDAR
VERSION:2.0
PRODID:-//Il portale dell&#039;Ultracycling in Italia - ECPv4.6.10.1//NONSGML v1.0//EN
CALSCALE:GREGORIAN
METHOD:PUBLISH
X-WR-CALNAME:Il portale dell&#039;Ultracycling in Italia
X-ORIGINAL-URL:https://ultracyclingitalia.com
X-WR-CALDESC:Events for Il portale dell&#039;Ultracycling in Italia
BEGIN:VEVENT
DTSTART;TZID=UTC+0:20200530T080000
DTEND;TZID=UTC+0:20200531T170000
DTSTAMP:20260422T182901
CREATED:20191013T141125Z
LAST-MODIFIED:20191013T141125Z
UID:273256-1590825600-1590944400@ultracyclingitalia.com
SUMMARY:Romagna Ultra Race 2020\, le montagne russe sono tornate!
DESCRIPTION:\nRomagna Ultra Race\nLe montagne russe della Romagna\, ritornano!\nDopo la grande partecipazione al primo evento della Romagna Ultra Race\,\nl’organizzazione sta preparando una nuova edizione.\nForte del gradimento riscosso e attenti nel migliorare ulteriormente\, Ivano\, Paolo e\ntutto lo staff\, hanno in serbo nuove sorprese.\nNel 2015 quando Ivano alla sua prima esperienza nell’ultradistanza\, ha vinto il titolo\nitaliano per la categoria solo self supported over 50\, ha scoperto un ambiente\nnuovo\, con il senso di collaborazione e amicizia spiccati.\nNel 2019 ha voluto dare una mano concretamente nella promozione della disciplina\ndell’ultracycling\, organizzando la Romagna Ultra Race.\nUna prima edizione calda che ha condizionato la prestazione di molti partecipanti\nma che ha comunque fatto apprezzare nella tranquillità\, per il pochissimo transito di\nauto\, la bellezza dei territori attraversati.\nCome da tipico spirito romagnolo\, sarà una seconda edizione all’insegna\ndell’accoglienza e della convivialità\, ma sempre attenta nel far rispettare il\nregolamento di gara.\nLa seconda edizione prenderà di nuovo il via\, dallo scenografico velodromo\n“Servadei” di Forlì il 30 e 31 maggio 2020.\n
URL:https://ultracyclingitalia.com/event/romagna-ultra-race-2020-le-montagne-russe-tornate/
LOCATION:Viale Roma 130\, Forlì\, Italia
ORGANIZER;CN="asd%20romagnaultrarace":MAILTO:info@romagnaultrarace.it
END:VEVENT
END:VCALENDAR