BEGIN:VCALENDAR
VERSION:2.0
PRODID:-//Il portale dell&#039;Ultracycling in Italia - ECPv4.6.10.1//NONSGML v1.0//EN
CALSCALE:GREGORIAN
METHOD:PUBLISH
X-WR-CALNAME:Il portale dell&#039;Ultracycling in Italia
X-ORIGINAL-URL:https://ultracyclingitalia.com
X-WR-CALDESC:Events for Il portale dell&#039;Ultracycling in Italia
BEGIN:VEVENT
DTSTART;TZID=UTC+0:20180428T080000
DTEND;TZID=UTC+0:20180501T170000
DTSTAMP:20260422T201516
CREATED:20171001T115228Z
LAST-MODIFIED:20180106T175518Z
UID:1545-1524902400-1525194000@ultracyclingitalia.com
SUMMARY:Race Across Italy 28 Aprile 2018
DESCRIPTION: \n  \nRace across Italy  è una gara di ultracycling non stop  con partenza da Silvi (TE) ed aperta alla partecipazione di solitari (sia self-supported che con veicolo al seguito) e team da 2 o 4 ciclisti(in staffetta); la sesta edizione partirà il prossimo 28 Aprile 2018 nella splendida cornice silvarola. \n \nLa RAI “Adriatico-Tirreno-Adriatico”  che appunto è una doppia Tirreno-Adriatico\, attraversa 3 regioni\, taglia per due volte l’ Appennino toccando i due mari\, e dopo 775km e circa 10.000mt di dislivello fa ritorno a Silvi. \nProva  di qualificazione per la famosa Race across America\, è inserita come gara di World Cup Ultracycling (vale 60 punti) ed è la  prima tappa del Ultracycling Italian Championship e del Ultracycling Italian Challenge; per info ultracyclingitalia.com \nLa collocazione della data a fine Aprile è stata decisa per dare l’ opportunità anche a tutti coloro che stanno preparando la partecipazione alla Race across America di fare un ottimo test(anche per la Crew) in condizioni climatiche che salvo imprevisti dovrebbero essere ideali. \n
URL:https://ultracyclingitalia.com/event/race-across-italy/
END:VEVENT
END:VCALENDAR