BEGIN:VCALENDAR
VERSION:2.0
PRODID:-//Il portale dell&#039;Ultracycling in Italia - ECPv4.6.10.1//NONSGML v1.0//EN
CALSCALE:GREGORIAN
METHOD:PUBLISH
X-WR-CALNAME:Il portale dell&#039;Ultracycling in Italia
X-ORIGINAL-URL:https://ultracyclingitalia.com
X-WR-CALDESC:Events for Il portale dell&#039;Ultracycling in Italia
BEGIN:VEVENT
DTSTART;TZID=UTC+0:20200501T080000
DTEND;TZID=UTC+0:20200501T170000
DTSTAMP:20260422T163916
CREATED:20181209T112200Z
LAST-MODIFIED:20191013T133439Z
UID:7708-1588320000-1588352400@ultracyclingitalia.com
SUMMARY:RACE ACROSS ITALY
DESCRIPTION: \nEcco la prima gara di Ultracycling Italia Cup! \nRace across Italy giunta alla sua 8° edizione via aspetta! \nRAI “Adriatico-Tirreno-Adriatico” è una gara di andata e ritorno in Tirreno-Adriatico\, attraversando tre regioni\, due volte in Appennino toccando sia il Tirreno che l’Adriatico\, e dopo 775 km e circa 10.000m di dislivello è finalmente tornato a Silvi. \nRAI è la gara di qualificazione per la famosa Race Across America\, è una gara della Coppa del Mondo Ultraciclistico (con un valore di 60 punti\, inoltre  è una delle gare dell’ Ultracycling Italia Cup. \nIn tutta l’America\, per testare se stessi e l’equipaggio\, in condizioni climatiche che\, salvo eventi imprevisti\, dovrebbero essere perfetti. \n  \nLungo il nuovo itinerario 2019 scoprirai alcune ascensioni epiche che fanno la storia nel nostro sport e al Giro d’Italia come Campo Imperatore\, Passo Macico\, Campitello Matese e altro … \nUna corsa da non perdere! \n  \n  \n  \n
URL:https://ultracyclingitalia.com/event/race-across-italy-2/
LOCATION:S.S.16 km 432\,\, Silvi Marina\, 64028\, Italia
END:VEVENT
END:VCALENDAR