BEGIN:VCALENDAR
VERSION:2.0
PRODID:-//Il portale dell&#039;Ultracycling in Italia - ECPv4.6.10.1//NONSGML v1.0//EN
CALSCALE:GREGORIAN
METHOD:PUBLISH
X-WR-CALNAME:Il portale dell&#039;Ultracycling in Italia
X-ORIGINAL-URL:https://ultracyclingitalia.com
X-WR-CALDESC:Events for Il portale dell&#039;Ultracycling in Italia
BEGIN:VEVENT
DTSTART;TZID=UTC+0:20200704T080000
DTEND;TZID=UTC+0:20200705T140000
DTSTAMP:20260422T235909
CREATED:20191013T145439Z
LAST-MODIFIED:20191013T145540Z
UID:273275-1593849600-1593957600@ultracyclingitalia.com
SUMMARY:Dolomitica 180\, la sfida di un giorno
DESCRIPTION:\n180 Km ma non è una Gran Fondo\, è una cronometro individuale\, anche se\, se Vi piacciono le Gran Fondo qui potreste divertirvi sul serio! \nNon sarete in 10.000\, qui il numero chiuso è di 60 partecipanti. 180 Km\, 4000 mt di dislivello\, un tracker gps addosso\, una classifica generale\, una folle corsa attraverso le prealpi Venete e le Dolomiti Friulane. \n \nPasso San Boldo\, Passo Sant’Osvaldo\, Piancavallo e Monte Gaiardin. \nSi parte alle 9:00 di Sabato 4 Luglio\, sempre dal palco di Ultracycling Dolomitica per affrontare a tutta queste 100 miglia e divertirsi in puro stile D+. \n
URL:https://ultracyclingitalia.com/event/dolomitica-180-la-sfida-un-giorno/
END:VEVENT
END:VCALENDAR