BEGIN:VCALENDAR
VERSION:2.0
PRODID:-//Il portale dell&#039;Ultracycling in Italia - ECPv4.6.10.1//NONSGML v1.0//EN
CALSCALE:GREGORIAN
METHOD:PUBLISH
X-WR-CALNAME:Il portale dell&#039;Ultracycling in Italia
X-ORIGINAL-URL:https://ultracyclingitalia.com
X-WR-CALDESC:Events for Il portale dell&#039;Ultracycling in Italia
BEGIN:VEVENT
DTSTART;TZID=UTC+0:20180706T080000
DTEND;TZID=UTC+0:20180708T170000
DTSTAMP:20260422T164047
CREATED:20170428T115933Z
LAST-MODIFIED:20180106T175306Z
UID:1548-1530864000-1531069200@ultracyclingitalia.com
SUMMARY:D+ Ultracycling Dolomitica 06 Luglio  2018
DESCRIPTION: \nD+ Ultracycling Dolomitica è una competizione di Ultracycling (su strade aperte) che si svolge in Italia a cadenza annuale\, iscritta al Ultracycling Italian Championship – Campionato Italiano Ultracycling [1]\, alla Coppa del Mondo Ultracycling UMCA[2] e valevole come qualificazione alla RAAM – Race across America [3]. \nDalla sua prima edizione è dedicata alla memoria di Vito Favero\, campione del ciclismo trevigiano. \n \n
URL:https://ultracyclingitalia.com/event/d-ultracycling-dolomitica-23-agosto-2018/
LOCATION:Sarmede (TV)\, Italia
ORGANIZER;CN="Ultracycling%20Italia":MAILTO:ultracyclingdolomitica@gmail.com
END:VEVENT
END:VCALENDAR