BEGIN:VCALENDAR
VERSION:2.0
PRODID:-//Il portale dell&#039;Ultracycling in Italia - ECPv4.6.10.1//NONSGML v1.0//EN
CALSCALE:GREGORIAN
METHOD:PUBLISH
X-WR-CALNAME:Il portale dell&#039;Ultracycling in Italia
X-ORIGINAL-URL:https://ultracyclingitalia.com
X-WR-CALDESC:Events for Il portale dell&#039;Ultracycling in Italia
BEGIN:VEVENT
DTSTART;VALUE=DATE:20180804
DTEND;VALUE=DATE:20180806
DTSTAMP:20260422T144419
CREATED:20180106T174408Z
LAST-MODIFIED:20180106T174408Z
UID:1780-1533340800-1533513599@ultracyclingitalia.com
SUMMARY:24h del Montello
DESCRIPTION:
URL:https://ultracyclingitalia.com/event/24h-del-montello/
END:VEVENT
END:VCALENDAR