BEGIN:VCALENDAR
VERSION:2.0
PRODID:-//Il portale dell&#039;Ultracycling in Italia - ECPv4.6.10.1//NONSGML v1.0//EN
CALSCALE:GREGORIAN
METHOD:PUBLISH
X-WR-CALNAME:Il portale dell&#039;Ultracycling in Italia
X-ORIGINAL-URL:https://ultracyclingitalia.com
X-WR-CALDESC:Events for Il portale dell&#039;Ultracycling in Italia
BEGIN:VEVENT
DTSTART;TZID=UTC+0:20190803T080000
DTEND;TZID=UTC+0:20190804T120000
DTSTAMP:20260420T091534
CREATED:20190112T215945Z
LAST-MODIFIED:20190203T132903Z
UID:16177-1564819200-1564920000@ultracyclingitalia.com
SUMMARY:24 h del Montello
DESCRIPTION: \nIl prossimo 3 e 4 agosto 2019 si terrà la prossima 24h del Montello\, valida come prova unica per l’assegnazione del Campionato Italiano Ultracycling 2019 e valevole per l’ITTC Italian Time Trial Challange 6 \, 12 e 24 ore\, challenge strutturato su piu’ prove. \nAvete capito bene\, la 24h del Montello sarà anche aperta a categoria 6h 12h un esperianza favolosa ideale per gli esperti\, ma anche per chi vuole avvicinarsi alla disciplina e giocarsela alla pari! \n  \nIl Podio degli under 50 2018 – 1° Mattia De Marchi 2° Federico Caretta – 3° Andrea Bartemucci\nL’edizione 2018 è stata vinta da Mattia De Marchi\, che ha superato i 700 Km nelle 24 ore di gara seguito da Federico Caretta e Andrea bartemucci\, attuale Campione Italiano ACSI. \nNella classifica femminile Ivana Furlan ha vinto percorrendo 536 Km\, mentre negli over 50 Hans Rudolf Nyfeler ha concluso davanti a Luciano Zattra e ad Alberto Elli \nIl record sul giro dell’ edizione 2018 è di Simone Perin del team Eagles (Ulian –  Fattorel – Perin – Tommasella)c he ha completato i 33.5 Km del circuito in  56’25”  classificati secondi dietro al Team Colò (Doneddu – Colò – Salvatori – Braico) \nIl team Colò Paolo Braico\, Livio Salvatori\, Alessandro Colo’\, Silvano Doneddu.\nIl percorso 33\,5 Km\, immersi nella natura del Montello Vi farà divertire! \nI dettagli e le novità della 24 ore del Montello Vi aspettano. \n
URL:https://ultracyclingitalia.com/event/24-h-del-montello/
END:VEVENT
END:VCALENDAR